BEGIN:VCALENDAR
VERSION:2.0
PRODID:-//Rodenberg Mitte - Veranstaltungszentrum - ECPv6.0.3.1//NONSGML v1.0//EN
CALSCALE:GREGORIAN
METHOD:PUBLISH
X-WR-CALNAME:Rodenberg Mitte - Veranstaltungszentrum
X-ORIGINAL-URL:https://rodenberg-mitte.de
X-WR-CALDESC:Veranstaltungen für Rodenberg Mitte - Veranstaltungszentrum
REFRESH-INTERVAL;VALUE=DURATION:PT1H
X-Robots-Tag:noindex
X-PUBLISHED-TTL:PT1H
BEGIN:VTIMEZONE
TZID:UTC
BEGIN:STANDARD
TZOFFSETFROM:+0000
TZOFFSETTO:+0000
TZNAME:UTC
DTSTART:20190101T000000
END:STANDARD
END:VTIMEZONE
BEGIN:VEVENT
DTSTART;TZID=UTC:20191027T140000
DTEND;TZID=UTC:20191027T180000
DTSTAMP:20260425T135037
CREATED:20191010T174016Z
LAST-MODIFIED:20191010T174151Z
UID:2382-1572184800-1572199200@rodenberg-mitte.de
SUMMARY:Belegt
DESCRIPTION:
URL:https://rodenberg-mitte.de/event/belegt-228/
LOCATION:Rodenberg-Mitte
CATEGORIES:Veranstaltungen
END:VEVENT
END:VCALENDAR