BEGIN:VCALENDAR
VERSION:2.0
PRODID:-//Rodenberg Mitte - Veranstaltungszentrum - ECPv6.0.3.1//NONSGML v1.0//EN
CALSCALE:GREGORIAN
METHOD:PUBLISH
X-ORIGINAL-URL:https://rodenberg-mitte.de
X-WR-CALDESC:Veranstaltungen für Rodenberg Mitte - Veranstaltungszentrum
REFRESH-INTERVAL;VALUE=DURATION:PT1H
X-Robots-Tag:noindex
X-PUBLISHED-TTL:PT1H
BEGIN:VTIMEZONE
TZID:UTC
BEGIN:STANDARD
TZOFFSETFROM:+0000
TZOFFSETTO:+0000
TZNAME:UTC
DTSTART:20200101T000000
END:STANDARD
END:VTIMEZONE
BEGIN:VEVENT
DTSTART;TZID=UTC:20201012T000000
DTEND;TZID=UTC:20201023T000000
DTSTAMP:20260424T173455
CREATED:20191229T135449Z
LAST-MODIFIED:20191229T135449Z
UID:2418-1602460800-1603411200@rodenberg-mitte.de
SUMMARY:Herbstferien
DESCRIPTION:
URL:https://rodenberg-mitte.de/event/herbstferien-5/
LOCATION:Rodenberg-Mitte
CATEGORIES:Veranstaltungen
END:VEVENT
END:VCALENDAR