BEGIN:VCALENDAR
VERSION:2.0
PRODID:-//Rodenberg Mitte - Veranstaltungszentrum - ECPv6.0.3.1//NONSGML v1.0//EN
CALSCALE:GREGORIAN
METHOD:PUBLISH
X-ORIGINAL-URL:https://rodenberg-mitte.de
X-WR-CALDESC:Veranstaltungen für Rodenberg Mitte - Veranstaltungszentrum
REFRESH-INTERVAL;VALUE=DURATION:PT1H
X-Robots-Tag:noindex
X-PUBLISHED-TTL:PT1H
BEGIN:VTIMEZONE
TZID:UTC
BEGIN:STANDARD
TZOFFSETFROM:+0000
TZOFFSETTO:+0000
TZNAME:UTC
DTSTART:20210101T000000
END:STANDARD
END:VTIMEZONE
BEGIN:VEVENT
DTSTART;TZID=UTC:20211223T000000
DTEND;TZID=UTC:20220107T000000
DTSTAMP:20260425T223223
CREATED:20210105T214105Z
LAST-MODIFIED:20210105T214105Z
UID:2587-1640217600-1641513600@rodenberg-mitte.de
SUMMARY:Winterferien
DESCRIPTION:
URL:https://rodenberg-mitte.de/event/winterferien/
LOCATION:Rodenberg-Mitte
CATEGORIES:Veranstaltungen
END:VEVENT
END:VCALENDAR